BEGIN:VCALENDAR
VERSION:2.0
PRODID:-//ChamberMaster//Event Calendar 2.0//EN
METHOD:PUBLISH
X-PUBLISHED-TTL:P3D
REFRESH-INTERVAL:P3D
CALSCALE:GREGORIAN
BEGIN:VEVENT
DTSTART;VALUE=DATE:20140425
DTEND;VALUE=DATE:20140426
TRANSP:TRANSPARENT
X-MICROSOFT-CDO-ALLDAYEVENT:TRUE
SUMMARY:Mountain Home Show
DESCRIPTION:Ideas for Your Mountain Home * Exhibits from Local Businesses * Many Free Give-aways * Friday April 25\, 2-7PM\, 2014 * Saturday\, April 26 9AM- 5PM\, 2014 * North Georgia Technical College *   mile west of Blairsville\, Georgia on Hwy. 515 * Admission is free this year. The Mountain Home Show is the place to meet the people who can design\, plan\, build\, remodel\, decorate\, and improve your home. Come to the show with the ideas you have gathered for your project. We would love to see your ideas and discuss them. We hope you can leave with even better ideas. We are proud of what we do\, and we are proud of our friendly little Mountain Home Show.
X-ALT-DESC;FMTTYPE=text/html:Ideas for Your Mountain Home * Exhibits from Local Businesses * Many Free Give-aways * <strong>Friday April 25\, 2-7PM\, 2014 * Saturday\, April 26 9AM- 5PM\, 2014</strong> * North Georgia Technical College * &frac12\; mile west of Blairsville\, Georgia on Hwy. 515 * Admission is free this year. The Mountain Home Show is the place to meet the people who can design\, plan\, build\, remodel\, decorate\, and improve your home. Come to the show with the ideas you have gathered for your project. We would love to see your ideas and discuss them. We hope you can leave with even better ideas. We are proud of what we do\, and we are proud of our friendly little Mountain Home Show.
LOCATION:North Georgia Technical College 121 Meeks Ave off 551 W Blairsville\, GA
UID:e.256.23371
SEQUENCE:3
DTSTAMP:20260424T133432Z
URL:https://members.visitblairsvillega.com/events/details/mountain-home-show-04-25-2014-23371
END:VEVENT

END:VCALENDAR
