BEGIN:VCALENDAR
VERSION:2.0
PRODID:-//ChamberMaster//Event Calendar 2.0//EN
METHOD:PUBLISH
X-PUBLISHED-TTL:P3D
REFRESH-INTERVAL:P3D
CALSCALE:GREGORIAN
BEGIN:VEVENT
DTSTART:20151121T233000Z
DTEND:20151122T033000Z
X-MICROSOFT-CDO-ALLDAYEVENT:FALSE
SUMMARY:Mountain M+arty Holiday Party
DESCRIPTION:Come celebrate the holiday season with great food from Epic Catering\, wonderful live music by Modern Vinyl\, dancing & fun! BYOB
X-ALT-DESC;FMTTYPE=text/html:Come celebrate the holiday season with great food from Epic Catering\, wonderful live music by Modern Vinyl\, dancing &amp\; fun! BYOB
LOCATION:Towns County Recreation Center 150 Foster Park Road Young Harris\, GA
UID:e.256.44464
SEQUENCE:3
DTSTAMP:20260423T085305Z
URL:https://members.visitblairsvillega.com/events/details/mountain-m-arty-holiday-party-11-21-2015-44464
END:VEVENT

END:VCALENDAR
