BEGIN:VCALENDAR
VERSION:2.0
PRODID:-//ChamberMaster//Event Calendar 2.0//EN
METHOD:PUBLISH
X-PUBLISHED-TTL:P3D
REFRESH-INTERVAL:P3D
CALSCALE:GREGORIAN
BEGIN:VEVENT
DTSTART:20170223T223000Z
DTEND:20170224T010000Z
X-MICROSOFT-CDO-ALLDAYEVENT:FALSE
SUMMARY:Mountain Marty Party Marty at The Hackney Warehouse
DESCRIPTION:Come and Meet with 50+ Other Business Owners and Professionals!\n\n\n\nThe Mountain M+arty Party\n\nA Monthly Networking Party\n\n"Doing business\, making friends!"\n\nFUN\, EFFECTIVE\, FREE - NOTHING TO JOIN!\n\n\n\nBringing Businesses together from Clay\, Cherokee\, Union\, Towns Counties and more!\n\n\n\nThe Mountain Marty Party thanks our Small Business Community for THREE years of effective Networking events!\n\nThursday\, February 23rd\, 2017\n\n\n\n5:30-8:00pm\n\n\n\nLocation:\n\n\n\nThe Hackney Warehouse\n\n\n\n11 Railroad St. Murphy NC 28906\n\n\n\n(828) 837-8376\n\n\n\nFree Entry\, Free Food\, Free 1st Beverage\n\n\n\nWine sponsored by Caboose Cellars\n\n\n\nBeer Sponsored by Andrews Brewery\n\n\n\nFood Sponsored by Epic Catering\n\n\n\n\n\nYOU ARE WELCOME TO INVITE OTHER BUSINESS PROFESSIONALS\n\n..........and YOUR BEST CUSTOMERS!
X-ALT-DESC;FMTTYPE=text/html:Come and Meet with 50+ Other Business Owners and Professionals!<br />\n<br />\nThe Mountain M+arty Party<br />\nA Monthly Networking Party<br />\n&ldquo\;Doing business\, making friends!&rdquo\;<br />\nFUN\, EFFECTIVE\, FREE - NOTHING TO JOIN!<br />\n<br />\nBringing Businesses together from Clay\, Cherokee\, Union\, Towns Counties and more!<br />\n<br />\nThe Mountain Marty Party thanks our Small Business Community for THREE years of effective Networking events!<br />\nThursday\, February 23rd\, 2017<br />\n<br />\n5:30-8:00pm<br />\n<br />\nLocation:<br />\n<br />\nThe Hackney Warehouse<br />\n<br />\n11 Railroad St. Murphy NC 28906<br />\n<br />\n(828) 837-8376<br />\n<br />\nFree Entry\, Free Food\, Free 1st Beverage<br />\n<br />\nWine sponsored by Caboose Cellars<br />\n<br />\nBeer Sponsored by Andrews Brewery<br />\n<br />\nFood Sponsored by Epic Catering<br />\n<br />\n<br />\nYOU ARE WELCOME TO INVITE OTHER BUSINESS PROFESSIONALS<br />\n..........and YOUR BEST CUSTOMERS!
LOCATION:The Hackney Warehouse 11 Railroad Street Murphy\, NC 28906
UID:e.256.67445
SEQUENCE:3
DTSTAMP:20260420T060815Z
URL:https://members.visitblairsvillega.com/events/details/mountain-marty-party-marty-at-the-hackney-warehouse-67445
END:VEVENT

END:VCALENDAR
