BEGIN:VCALENDAR
VERSION:2.0
PRODID:-//ChamberMaster//Event Calendar 2.0//EN
METHOD:PUBLISH
X-PUBLISHED-TTL:P3D
REFRESH-INTERVAL:P3D
CALSCALE:GREGORIAN
BEGIN:VEVENT
DTSTART:20140913T140000Z
DTEND:20140913T210000Z
X-MICROSOFT-CDO-ALLDAYEVENT:FALSE
SUMMARY:Mountain Music and Arts & Crafts Festival
DESCRIPTION:Mountain Music and Arts & Craft Festival\n\nGet Outdoors Georgia Saturday\, September 13\, 2014\n\nHandicapped Accessible\n\nThis popular event includes Appalachian\, Bluegrass and Gospel music. There will also be art and craft booths with handmade items for sale\, and food concessions provided by Vogel Volunteers/Friends of Georgia State Parks.\n\n$2-$5 plus $5 parking.\n\n706-745-2628.\n\nLocation: Vogel State Park 405 Vogel State Park Road Blairsville\, GA 30512 Directions: Located 11 miles south of Blairsville via U.S. Hwy. 19/129.
X-ALT-DESC;FMTTYPE=text/html:Mountain Music and Arts &amp\; Craft Festival<br />\nGet Outdoors Georgia Saturday\, September 13\, 2014<br />\nHandicapped Accessible<br />\nThis popular event includes Appalachian\, Bluegrass and Gospel music. There will also be art and craft booths with handmade items for sale\, and food concessions provided by Vogel Volunteers/Friends of Georgia State Parks.<br />\n$2-$5 plus $5 parking.<br />\n706-745-2628.<br />\nLocation: Vogel State Park 405 Vogel State Park Road Blairsville\, GA 30512 Directions: Located 11 miles south of Blairsville via U.S. Hwy. 19/129.
LOCATION:Vogel State Park 405 Vogel State Park Road (11 miles south of Blairsville via U.S. Hwy. 19/129) Blairsville\, GA 30512
UID:e.256.21925
SEQUENCE:3
DTSTAMP:20260424T063451Z
URL:https://members.visitblairsvillega.com/events/details/mountain-music-and-arts-crafts-festival-09-13-2014-21925
END:VEVENT

END:VCALENDAR
