BEGIN:VCALENDAR
VERSION:2.0
PRODID:-//ChamberMaster//Event Calendar 2.0//EN
METHOD:PUBLISH
X-PUBLISHED-TTL:P3D
REFRESH-INTERVAL:P3D
CALSCALE:GREGORIAN
BEGIN:VEVENT
DTSTART:20151217T130000Z
DTEND:20151217T140000Z
X-MICROSOFT-CDO-ALLDAYEVENT:FALSE
SUMMARY:Mountain Networking Referral Group Meeting
DESCRIPTION:If you want to grow your business through\n\nnetworking and referrals\, join us every Thursday at 8:00am\n\nMountain Networking Referral Group\n\nPlease contact Lisa Azzarello if you are interested in joining this group.
X-ALT-DESC;FMTTYPE=text/html:<p style="text-align: center\;">If you want to grow your business through</p>\n\n<p style="text-align: center\;">networking and referrals\, join us&nbsp\;<strong><u>every&nbsp\;Thursday&nbsp\;</u>at&nbsp\;8:00am</strong></p>\n\n<p style="text-align: center\;"><em><strong>Mountain Networking Referral Group<br />\nPlease contact Lisa Azzarello if you are interested in joining this group.</strong></em></p>\n
LOCATION:Pat Haralson Civic Center 165 Welborn St. Blairsville\, GA Bla
UID:e.256.28205
SEQUENCE:3
DTSTAMP:20260421T074134Z
URL:https://members.visitblairsvillega.com/events/details/mountain-networking-referral-group-meeting-12-17-2015-28205
END:VEVENT

END:VCALENDAR
