BEGIN:VCALENDAR
VERSION:2.0
PRODID:-//ChamberMaster//Event Calendar 2.0//EN
METHOD:PUBLISH
X-PUBLISHED-TTL:P3D
REFRESH-INTERVAL:P3D
CALSCALE:GREGORIAN
BEGIN:VEVENT
DTSTART:20150216T180000Z
DTEND:20150216T210000Z
X-MICROSOFT-CDO-ALLDAYEVENT:FALSE
SUMMARY:Mountain Regional Arts & Crafts
DESCRIPTION:Linda Bell\, Guild member from Hiawassee\, GA\, will teach a class on hooked wool flowers.  Come and learn to hook beautiful flowers using a hand dyed wool and add to your "wool garden".  The flowers can be worn as a pin\, hair clip or on a purse\, hat or sweater.  All material will be supplied by the instructor.
X-ALT-DESC;FMTTYPE=text/html:Linda Bell\, Guild member from Hiawassee\, GA\, will teach a class on hooked wool flowers.&nbsp\; Come and learn to hook beautiful flowers using a hand dyed wool and add to your &quot\;wool garden&quot\;.&nbsp\; The flowers can be worn as a pin\, hair clip or on a purse\, hat or sweater.&nbsp\; All material will be supplied by the instructor.
LOCATION:ArtWorks Artisian Center 308 Big Sky Drive
UID:e.256.37054
SEQUENCE:3
DTSTAMP:20260423T225754Z
URL:https://members.visitblairsvillega.com/events/details/mountain-regional-arts-crafts-02-16-2015-37054
END:VEVENT

END:VCALENDAR
