BEGIN:VCALENDAR
VERSION:2.0
PRODID:-//ChamberMaster//Event Calendar 2.0//EN
METHOD:PUBLISH
X-PUBLISHED-TTL:P3D
REFRESH-INTERVAL:P3D
CALSCALE:GREGORIAN
BEGIN:VEVENT
DTSTART:20150221T180000Z
DTEND:20150221T210000Z
X-MICROSOFT-CDO-ALLDAYEVENT:FALSE
SUMMARY:Mountain Regional Arts & Crafts Guild
DESCRIPTION:Kaye Teronde\, Guild member from Hayseville\, NC\, will teach a class making five different cards in this workshop.  learn rubber stamping in the combination with a variety of other techniques to make handmade cards to give to family and friends.  All skill levels welcome.
X-ALT-DESC;FMTTYPE=text/html:Kaye Teronde\, Guild member from Hayseville\, NC\, will teach a class making five different cards in this workshop.&nbsp\; learn rubber stamping in the combination with a variety of other techniques to make handmade cards to give to family and friends.&nbsp\; All skill levels welcome.
LOCATION:ArtWorks 232B Chatuge Way Hiawasse\, GA
UID:e.256.37055
SEQUENCE:3
DTSTAMP:20260423T225748Z
URL:https://members.visitblairsvillega.com/events/details/mountain-regional-arts-crafts-guild-02-21-2015-37055
END:VEVENT

END:VCALENDAR
