BEGIN:VCALENDAR
VERSION:2.0
PRODID:-//ChamberMaster//Event Calendar 2.0//EN
METHOD:PUBLISH
X-PUBLISHED-TTL:P3D
REFRESH-INTERVAL:P3D
CALSCALE:GREGORIAN
BEGIN:VEVENT
DTSTART:20150227T180000Z
DTEND:20150227T210000Z
X-MICROSOFT-CDO-ALLDAYEVENT:FALSE
SUMMARY:Mountain Regional Arts & Crafts Guild
DESCRIPTION:Ruth Gudger\, Guild member and native of Hiawassee\, GA\, will teach an introductory class in wire wrapping for begginners.  Learn to wrap a gemstone pendant with sterling silver wire.
X-ALT-DESC;FMTTYPE=text/html:Ruth Gudger\, Guild member and native of Hiawassee\, GA\, will teach an introductory class in wire wrapping for begginners.&nbsp\; Learn to wrap a gemstone pendant with sterling silver wire.
LOCATION:ArtWorks 232 B Chatuge Way Hiawassee\, Ga
UID:e.256.37056
SEQUENCE:3
DTSTAMP:20260423T225752Z
URL:https://members.visitblairsvillega.com/events/details/mountain-regional-arts-crafts-guild-02-27-2015-37056
END:VEVENT

END:VCALENDAR
