BEGIN:VCALENDAR
VERSION:2.0
PRODID:-//ChamberMaster//Event Calendar 2.0//EN
METHOD:PUBLISH
X-PUBLISHED-TTL:P3D
REFRESH-INTERVAL:P3D
CALSCALE:GREGORIAN
BEGIN:VEVENT
DTSTART:20150228T150000Z
DTEND:20150228T170000Z
X-MICROSOFT-CDO-ALLDAYEVENT:FALSE
SUMMARY:Mountain Regional Arts & Crafts Guild
DESCRIPTION:Elizabeth Rybicki\, Guild member from Hayesville\, NC\, will teach basic crochet all the way to knitting using the new Knook\, a combination crochet hook/knitting needle.  Then after simple transition students will be knitting on regular needles.  Make your dream of knitting a reality in record time.  A "yarn tasting" wil let students try out a variety of yarns during the class.
X-ALT-DESC;FMTTYPE=text/html:Elizabeth Rybicki\, Guild member from Hayesville\, NC\, will teach basic crochet all the way to knitting using the new Knook\, a combination crochet hook/knitting needle.&nbsp\; Then after simple transition students will be knitting on regular needles.&nbsp\; Make your dream of knitting a reality in record time.&nbsp\; A &quot\;yarn tasting&quot\; wil let students try out a variety of yarns during the class.
LOCATION:ArtWorks 232B Chatuge Way Hiawasse\, Ga
UID:e.256.37057
SEQUENCE:3
DTSTAMP:20260423T225754Z
URL:https://members.visitblairsvillega.com/events/details/mountain-regional-arts-crafts-guild-02-28-2015-37057
END:VEVENT

END:VCALENDAR
