BEGIN:VCALENDAR
VERSION:2.0
PRODID:-//ChamberMaster//Event Calendar 2.0//EN
METHOD:PUBLISH
X-PUBLISHED-TTL:P3D
REFRESH-INTERVAL:P3D
CALSCALE:GREGORIAN
BEGIN:VEVENT
DTSTART:20141111T210000Z
DTEND:20141111T210000Z
X-MICROSOFT-CDO-ALLDAYEVENT:FALSE
SUMMARY:Mountain Regional Arts & Crafts Guild Monthly Meeting
DESCRIPTION:Mountain Regional Arts & Crafts Guild meets monthly on the second Tuesday at Daniel's Steakhouse in Hiawassee\, GA. The board meets at 4 and the membership meets at 6. Anyone interested in the Guild is invited to come to any monthly meeting and are encouraged to bring a sample of their work.
X-ALT-DESC;FMTTYPE=text/html:Mountain Regional Arts &amp\; Crafts Guild meets monthly on the second Tuesday at Daniel&#39\;s Steakhouse in Hiawassee\, GA. The board meets at 4 and the membership meets at 6. Anyone interested in the Guild is invited to come to any monthly meeting and are encouraged to bring a sample of their work.
LOCATION:Daniel's Steakhouse Big Sky Drive Hiawassee\, GA
UID:e.256.27558
SEQUENCE:3
DTSTAMP:20260424T033959Z
URL:https://members.visitblairsvillega.com/events/details/mountain-regional-arts-crafts-guild-monthly-meeting-11-11-2014-27558
END:VEVENT

END:VCALENDAR
