BEGIN:VCALENDAR
VERSION:2.0
PRODID:-//ChamberMaster//Event Calendar 2.0//EN
METHOD:PUBLISH
X-PUBLISHED-TTL:P3D
REFRESH-INTERVAL:P3D
CALSCALE:GREGORIAN
BEGIN:VEVENT
DTSTART:20150513T170000Z
DTEND:20150513T200000Z
X-MICROSOFT-CDO-ALLDAYEVENT:FALSE
SUMMARY:Mountain Regional Arts & Crafts - Intro to Watercolor
DESCRIPTION:Classes Offered In May 2015\, Sign Up Today\n\nMountain Regional Arts & Crafts Guild is pleased to announce the May adult classes at its ArtWorks Artisan Centre in Hiawassee.  Class size is limited\, insuring individualized instruction.  This month's classes include painting and card making.  The full course descriptions are found on the "Classes" page of the Guild website\, www.artguildstore.com.  \n\n"Painting with Paula" the on-going oil and acrylic painting class with Paula Canup continues on May 5th and 19th from 1 to 3:30 pm.  "Introduction to Transparent Watercolor" for new watercolorists with Joyce Clair on May 13th from 1 to 4 pm.  If you like watercolors\, then sign up for the follow on "Transparent Watercolor" series with Joyce on May 20th and 27th\, and June 3rd which covers additional topics.  "Card Making   Rubber Stamping and Beyond" class with Kaye Teronde on May 30th from 1:00 to 4:00.  \n\nFor additional information on any of these classes and to sign up for any workshop\, please visit ArtWorks in Hiawassee or call the store at 706-896-0932 and register using a credit card.  Class fees are due at registration.  ArtWorks is located at 232B Chatuge Way in the Hiawassee Business Center and is open Monday through Saturday from 10 to 5.\nThe Guild's Summer Children's Art Classes returns in July.  A Yart (Yard + Art) sale will be on May 9th in the ArtWorks parking lot to support the children's classes.  Registration is open for the children's classes.  Full descriptions of those classes is on the "Children's Click here to edit...
X-ALT-DESC;FMTTYPE=text/html:<div style="color: gray\;">\n<p align="center" style="margin: 0in 0in 8pt\; text-align: center\;"><span style="color: black\; font-family: &quot\;Calibri&quot\;\,&quot\;sans-serif&quot\;\;"><font size="3">Classes Offered In May 2015\, Sign Up Today</font></span></p>\n\n<p style="margin: 0in 0in 8pt\;"><span style="color: black\; font-family: &quot\;Calibri&quot\;\,&quot\;sans-serif&quot\;\;"><font size="3">Mountain Regional Arts &amp\; Crafts Guild is pleased to announce the May adult classes at its ArtWorks Artisan Centre in Hiawassee.&nbsp\; Class size is limited\, insuring individualized instruction.&nbsp\; This month&rsquo\;s classes include painting and card making. &nbsp\;The full course descriptions are found on the &ldquo\;Classes&rdquo\; page of the Guild website\, </font></span><a href="http://www.artguildstore.com/"><span style="color: rgb(5\, 99\, 193)\; font-family: &quot\;Calibri&quot\;\,&quot\;sans-serif&quot\;\;"><font size="3">www.artguildstore.com</font></span></a><span style="color: black\; font-family: &quot\;Calibri&quot\;\,&quot\;sans-serif&quot\;\;"><font size="3">.&nbsp\; </font></span></p>\n\n<p style="margin: 0in 0in 8pt\;"><span style="color: black\; font-family: &quot\;Calibri&quot\;\,&quot\;sans-serif&quot\;\;"><font size="3">&ldquo\;Painting with Paula&rdquo\; the on-going oil and acrylic painting class with Paula Canup continues on May 5</font></span><sup><span style="color: black\; font-family: &quot\;Calibri&quot\;\,&quot\;sans-serif&quot\;\; font-size: 10pt\;">th</span></sup><span style="color: black\; font-family: &quot\;Calibri&quot\;\,&quot\;sans-serif&quot\;\;"><font size="3"> and 19th from 1 to 3:30 pm.&nbsp\; &ldquo\;Introduction to Transparent Watercolor&rdquo\; for new watercolorists with Joyce Clair on May 13</font></span><sup><span style="color: black\; font-family: &quot\;Calibri&quot\;\,&quot\;sans-serif&quot\;\; font-size: 10pt\;">th</span></sup><span style="color: black\; font-family: &quot\;Calibri&quot\;\,&quot\;sans-serif&quot\;\;"><font size="3"> from 1 to 4 pm.&nbsp\; If you like watercolors\, then sign up for the follow on &ldquo\;Transparent Watercolor&rdquo\; series with Joyce on May 20</font></span><sup><span style="color: black\; font-family: &quot\;Calibri&quot\;\,&quot\;sans-serif&quot\;\; font-size: 10pt\;">th</span></sup><span style="color: black\; font-family: &quot\;Calibri&quot\;\,&quot\;sans-serif&quot\;\;"><font size="3"> and 27th\, and June 3</font></span><sup><span style="color: black\; font-family: &quot\;Calibri&quot\;\,&quot\;sans-serif&quot\;\; font-size: 10pt\;">rd</span></sup><span style="color: black\; font-family: &quot\;Calibri&quot\;\,&quot\;sans-serif&quot\;\;"><font size="3"> which covers additional topics.&nbsp\; &ldquo\;Card Making &ndash\; Rubber Stamping and Beyond&rdquo\; class with Kaye Teronde on May 30th from 1:00 to 4:00. &nbsp\;</font></span></p>\n\n<p style="margin: 0in 0in 8pt\;"><span style="color: black\; font-family: &quot\;Calibri&quot\;\,&quot\;sans-serif&quot\;\;"><font size="3">For additional information on any of these classes and to sign up for any workshop\, please visit ArtWorks in Hiawassee or call the store at 706-896-0932 and register using a credit card.&nbsp\; Class fees are due at registration.&nbsp\; ArtWorks is located at 232B Chatuge Way in the Hiawassee Business Center and is open Monday through Saturday from 10 to 5.</font></span></p>\n<span style="color: black\; font-family: &quot\;Calibri&quot\;\,&quot\;sans-serif&quot\;\; font-size: 12pt\; mso-fareast-font-family: Calibri\; mso-fareast-theme-font: minor-latin\; mso-bidi-font-family: &quot\;Times New Roman&quot\;\; mso-ansi-language: EN-US\; mso-fareast-language: EN-US\; mso-bidi-language: AR-SA\;">The Guild&rsquo\;s Summer Children&rsquo\;s Art Classes returns in July.&nbsp\; A Yart (Yard + Art) sale will be on May 9</span><sup><span style="color: black\; font-family: &quot\;Calibri&quot\;\,&quot\;sans-serif&quot\;\; font-size: 10pt\; mso-fareast-font-family: Calibri\; mso-fareast-theme-font: minor-latin\; mso-bidi-font-family: &quot\;Times New Roman&quot\;\; mso-ansi-language: EN-US\; mso-fareast-language: EN-US\; mso-bidi-language: AR-SA\;">th</span></sup><span style="color: black\; font-family: &quot\;Calibri&quot\;\,&quot\;sans-serif&quot\;\; font-size: 12pt\; mso-fareast-font-family: Calibri\; mso-fareast-theme-font: minor-latin\; mso-bidi-font-family: &quot\;Times New Roman&quot\;\; mso-ansi-language: EN-US\; mso-fareast-language: EN-US\; mso-bidi-language: AR-SA\;"> in the ArtWorks parking lot to support the children&rsquo\;s classes.&nbsp\; Registration is open for the children&rsquo\;s classes.&nbsp\; Full descriptions of those classes is on the &ldquo\;Children&rsquo\;s </span>Click here to edit...</div>\n
LOCATION:232B Chatuge Way in the Hiawassee Business Center
UID:e.256.40158
SEQUENCE:3
DTSTAMP:20260423T182753Z
URL:https://members.visitblairsvillega.com/events/details/mountain-regional-arts-crafts-intro-to-watercolor-05-13-2015-40158
END:VEVENT

END:VCALENDAR
