BEGIN:VCALENDAR
VERSION:2.0
PRODID:-//ChamberMaster//Event Calendar 2.0//EN
METHOD:PUBLISH
X-PUBLISHED-TTL:P3D
REFRESH-INTERVAL:P3D
CALSCALE:GREGORIAN
BEGIN:VEVENT
DTSTART:20150509T120000Z
DTEND:20150509T170000Z
X-MICROSOFT-CDO-ALLDAYEVENT:FALSE
SUMMARY:Mountain Regional Arts & Crafts Yart (Yard + Art)
DESCRIPTION:Yart (Yard + Art) Sale to Benefit Children's Summer Art Program The Mountain Regional Arts & Crafts Guild\, a 501 (c)3 non-profit organization\, promotes the arts and encourages local artists. One of the ways the Guild does this is through its Summer Children's Art Program of visual arts classes for the children in our communities. The classes are taught by members of the Guild. Fund raising efforts of the Guild members keeps the cost of the classes affordable to families. One of the fund raising efforts this year is a Yart (Yard + Art) Sale. Come browse and buy at the Yart Sale\, there are plenty of gently used household items\, decorative accents and other great buys. While you are there\, come in the store and check out the high quality arts and crafts made by the Guild members. Registration for the Children's Summer Art Classes is now open and you can register your children when you come to the sale. There are 18 different classes\, so one is sure to be perfect for your budding artist. The full description of all the classes\, information about the Guild and the Arts & Crafts Shows it sponsors may be found on the Guild website\, www.artguild.com. Thank you for your support of visual arts education for children in our local communities.
X-ALT-DESC;FMTTYPE=text/html:Yart (Yard + Art) Sale to Benefit Children&#39\;s Summer Art Program The Mountain Regional Arts &amp\; Crafts Guild\, a 501 (c)3 non-profit organization\, promotes the arts and encourages local artists. One of the ways the Guild does this is through its Summer Children&#39\;s Art Program of visual arts classes for the children in our communities. The classes are taught by members of the Guild. Fund raising efforts of the Guild members keeps the cost of the classes affordable to families. One of the fund raising efforts this year is a Yart (Yard + Art) Sale. Come browse and buy at the Yart Sale\, there are plenty of gently used household items\, decorative accents and other great buys. While you are there\, come in the store and check out the high quality arts and crafts made by the Guild members. Registration for the Children&#39\;s Summer Art Classes is now open and you can register your children when you come to the sale. There are 18 different classes\, so one is sure to be perfect for your budding artist. The full description of all the classes\, information about the Guild and the Arts &amp\; Crafts Shows it sponsors may be found on the Guild website\, www.artguild.com. Thank you for your support of visual arts education for children in our local communities.
LOCATION:Artworks Artisan Centre - Hiawassee Business Center 232B Chatuge Way Hiawassee\, GA
UID:e.256.40017
SEQUENCE:3
DTSTAMP:20260423T182701Z
URL:https://members.visitblairsvillega.com/events/details/mountain-regional-arts-crafts-yart-yard-art-05-09-2015-40017
END:VEVENT

END:VCALENDAR
