BEGIN:VCALENDAR
VERSION:2.0
PRODID:-//ChamberMaster//Event Calendar 2.0//EN
METHOD:PUBLISH
X-PUBLISHED-TTL:P3D
REFRESH-INTERVAL:P3D
CALSCALE:GREGORIAN
BEGIN:VEVENT
DTSTART:20170629T230000Z
DTEND:20170630T010000Z
X-MICROSOFT-CDO-ALLDAYEVENT:FALSE
SUMMARY:Mountain Voices
DESCRIPTION:Mountain Voices\, a 55-member chorus\, will present Music by the Decade. The program will include show tunes\, Top 40 hits\, gospel\, and patriot songs from over 50 years of music. Mountain Voices is under the direction of Beverly Barnett and accompanied by Lorie Meservey.
X-ALT-DESC;FMTTYPE=text/html:Mountain Voices\, a 55-member chorus\, will present Music by the Decade. The program will include show tunes\, Top 40 hits\, gospel\, and patriot songs from over 50 years of music. Mountain Voices is under the direction of Beverly Barnett and accompanied by Lorie Meservey.
LOCATION:Smoky Mountain Center for the Performing Arts 1028 Georgia Road Franklin\, NC 28734
UID:e.256.69222
SEQUENCE:3
DTSTAMP:20260420T002806Z
URL:https://members.visitblairsvillega.com/events/details/mountain-voices-69222
END:VEVENT

END:VCALENDAR
