BEGIN:VCALENDAR
VERSION:2.0
PRODID:-//ChamberMaster//Event Calendar 2.0//EN
METHOD:PUBLISH
X-PUBLISHED-TTL:P3D
REFRESH-INTERVAL:P3D
CALSCALE:GREGORIAN
BEGIN:VEVENT
DTSTART:20141207T170000Z
DTEND:20141207T220000Z
X-MICROSOFT-CDO-ALLDAYEVENT:FALSE
SUMMARY:Mountain Wine Country Holiday Weekend
DESCRIPTION:HOLIDAY WEEKEND IN MOUNTAIN WINE COUNTRY The Mountain Wine Country Cooperative is delighted to present the annual Holiday Weekend in Mountain Wine Country December 5th\, 6th and 7th\, 2014. Purchase a passport at any of the 14 participating wineries for $20 and receive a Mountain Wine Country glass. This passport gives you access to taste wines at each of the 14 wineries and three days of fun. Each winery is offering a special experience to its Holiday Weekend visitors! As an added bonus\, just show your Mountain Wine Country passport at any Rib Country Restaurant and receive a 20% discount on your meal. Additionally\, the same 20% discount is being offered by the Best Western in Murphy\, NC (828) 837- 3060\, the Ridges Resort & Marina in Hiawassee\, GA (888) 834-4409\, and Paradise Hills Resort & Spa in Blairsville\, GA (877) 745-7483. This is an excellent way to have a quick weekend getaway and enjoy the beautiful scenery of Mountain Wine Country. Holiday Weekend Hours: Friday\, December 5th\, 12 - 5 PM Saturday\, December 6th\, 12 - 5 PM Sunday\, December 7th\, 1 - 5 PM.
X-ALT-DESC;FMTTYPE=text/html:HOLIDAY WEEKEND IN MOUNTAIN WINE COUNTRY The Mountain Wine Country Cooperative is delighted to present the annual Holiday Weekend in Mountain Wine Country December 5th\, 6th and 7th\, 2014. Purchase a passport at any of the 14 participating wineries for $20 and receive a Mountain Wine Country glass. This passport gives you access to taste wines at each of the 14 wineries and three days of fun. Each winery is offering a special experience to its Holiday Weekend visitors! As an added bonus\, just show your Mountain Wine Country passport at any Rib Country Restaurant and receive a 20% discount on your meal. Additionally\, the same 20% discount is being offered by the Best Western in Murphy\, NC (828) 837- 3060\, the Ridges Resort &amp\; Marina in Hiawassee\, GA (888) 834-4409\, and Paradise Hills Resort &amp\; Spa in Blairsville\, GA (877) 745-7483. This is an excellent way to have a quick weekend getaway and enjoy the beautiful scenery of Mountain Wine Country. Holiday Weekend Hours: Friday\, December 5th\, 12 - 5 PM Saturday\, December 6th\, 12&nbsp\;- 5 PM Sunday\, December 7th\, 1&nbsp\;- 5 PM.
LOCATION:Paradise Hills Resort\, Spa & Winery 366 Paradise Road/129 South Blairsville\, GA
UID:e.256.27785
SEQUENCE:3
DTSTAMP:20260424T020515Z
URL:https://members.visitblairsvillega.com/events/details/mountain-wine-country-holiday-weekend-12-07-2014-27785
END:VEVENT

END:VCALENDAR
