BEGIN:VCALENDAR
VERSION:2.0
PRODID:-//ChamberMaster//Event Calendar 2.0//EN
METHOD:PUBLISH
X-PUBLISHED-TTL:P3D
REFRESH-INTERVAL:P3D
CALSCALE:GREGORIAN
BEGIN:VEVENT
DTSTART:20150530T210000Z
DTEND:20150531T010000Z
X-MICROSOFT-CDO-ALLDAYEVENT:FALSE
SUMMARY:Movie Night & Chili Cook-off at Meeks Park
DESCRIPTION:Movie Night featuring Letters to God.\n\nThere will also be a chili cook-off so bring your pot of prepared chili and let the judging begin! This fun night of fellowship will also include a free corn-hole tournament and door prizes.\n\nSponsored by: North Mt. Zion
X-ALT-DESC;FMTTYPE=text/html:Movie Night featuring Letters to God.<br />\nThere will also be a chili cook-off so bring your pot of prepared chili and let the judging begin! This fun night of fellowship will also include a free corn-hole tournament and door prizes.<br />\nSponsored by: North Mt. Zion
LOCATION:Meeks Park
UID:e.256.40308
SEQUENCE:3
DTSTAMP:20260423T182736Z
URL:https://members.visitblairsvillega.com/events/details/movie-night-chili-cook-off-at-meeks-park-05-30-2015-40308
END:VEVENT

END:VCALENDAR
