BEGIN:VCALENDAR
VERSION:2.0
PRODID:-//ChamberMaster//Event Calendar 2.0//EN
METHOD:PUBLISH
X-PUBLISHED-TTL:P3D
REFRESH-INTERVAL:P3D
CALSCALE:GREGORIAN
BEGIN:VEVENT
DTSTART:20140503T000000Z
DTEND:20140503T003000Z
X-MICROSOFT-CDO-ALLDAYEVENT:FALSE
SUMMARY:Mtn. Community Chorus Spring Concerts
DESCRIPTION:Mountain Community Chorus performs its 40th anniversary spring concert Friday May 2nd at 8 PM and Sunday May 4th at 3 PM.
X-ALT-DESC;FMTTYPE=text/html:Mountain Community Chorus performs its 40th anniversary spring concert Friday May 2nd at 8 PM and Sunday May 4th at 3 PM.
LOCATION:Hilda D. Glenn Auditorium Young Harris College
UID:e.256.23650
SEQUENCE:3
DTSTAMP:20260424T122301Z
URL:https://members.visitblairsvillega.com/events/details/mtn-community-chorus-spring-concerts-05-02-2014-23650
END:VEVENT

END:VCALENDAR
