BEGIN:VCALENDAR
VERSION:2.0
PRODID:-//ChamberMaster//Event Calendar 2.0//EN
METHOD:PUBLISH
X-PUBLISHED-TTL:P3D
REFRESH-INTERVAL:P3D
CALSCALE:GREGORIAN
BEGIN:VEVENT
DTSTART:20160608T220000Z
DTEND:20160609T000000Z
X-MICROSOFT-CDO-ALLDAYEVENT:FALSE
SUMMARY:MTNS Eatery's Dine and Donate S.A.F.E. Event
DESCRIPTION:Eat\, drink and be generous! Help others help themselves by enjoying dinner for only $10 at MTNS Eatery on Wednesday June 8th from 6:00-8:00pm. \n\n\n\nAlso\, there will be a silent auction of works by several local artists. The items will be available for viewing June 1st and the auction will end at 8:00pm on the 8th. \n\n\n\nAll proceeds from the dinner and auction will support S.A.F.E to provide services for victims of domestic violence\, sexual assault and child abuse in Towns and Union Counties. A representative from S.A.F.E. will be at the event to share information about S.A.F.E.'s services and other ways you can help make a difference in your community. \n\n\n\nOn facebook\, visit the event page at https://www.facebook.com/events/240448592983800/\n\n"We don't work in the non-profit sector. We work in the for-change sector!"   Unknown\n\n\n\nCheck out some of the artists that donated to the auction: \n\nwww.facebook.com/scrollngirlwoodwork\n\nwww.facebook.com/rosiegirlcrochet\n\nwww.facebook.com/mydarlinglittlecircle\n\nwww.etsy.com/shop/FantasyFeltArt\n\nodd bead in\, 706-745-7446 32C Town Square\, Blairsville\n\nwww.facebook.com/homewerkshomeservices/\n\nhttps://www.facebook.com/OldMoonMercantile/
X-ALT-DESC;FMTTYPE=text/html:<span style="color: rgb(75\, 79\, 86)\; font-family: helvetica\,arial\,sans-serif\; font-size: 14px\;">Eat\, drink and be generous! Help others help themselves by enjoying dinner for only $10 at MTNS Eatery on Wednesday June 8th from 6:00-8:00pm.&nbsp\;</span><br />\n<br />\n<span style="color: rgb(75\, 79\, 86)\; font-family: helvetica\,arial\,sans-serif\; font-size: 14px\;">Also\, there will be a silent auction of works by several local artists. The items will be available for viewing June 1st and the auction will end at 8:00pm on the 8th.&nbsp\;</span><br />\n<br />\n<span style="color: rgb(75\, 79\, 86)\; font-family: helvetica\,arial\,sans-serif\; font-size: 14px\;">All proceeds from the dinner and auction will support S.A.F.E to provide services for victims of domestic violence\, sexual assault and child abuse in Towns and Union Counties. A representative from S.A.F.E. will be at the event to share information about S.A.F.E.&#39\;s services and other ways you can help make a difference in your community.&nbsp\;</span><br />\n<br />\nOn facebook\, visit the event page at&nbsp\;https://www.facebook.com/events/240448592983800/<br />\n<span style="color: rgb(75\, 79\, 86)\; font-family: helvetica\,arial\,sans-serif\; font-size: 14px\;">&quot\;We don&rsquo\;t work in the non-profit sector. We work in the for-change sector!&quot\; &ndash\; Unknown</span><br />\n<br />\n<span style="color: rgb(75\, 79\, 86)\; font-family: helvetica\,arial\,sans-serif\; font-size: 14px\;">Check out some of the artists that donated to the auction:&nbsp\;</span><br />\n<a href="http://www.facebook.com/scrollngirlwoodwork" rel="nofollow" style="color: rgb(54\, 88\, 153)\; line-height: 18.76px\; font-family: helvetica\, arial\, sans-serif\; font-size: 14px\; text-decoration: none\; cursor: pointer\;">www.facebook.com/scrollngirlwoodwork</a><br />\n<a href="http://www.facebook.com/rosiegirlcrochet" rel="nofollow" style="color: rgb(54\, 88\, 153)\; line-height: 18.76px\; font-family: helvetica\, arial\, sans-serif\; font-size: 14px\; text-decoration: none\; cursor: pointer\;">www.facebook.com/rosiegirlcrochet</a><br />\n<a href="http://www.facebook.com/mydarlinglittlecircle" rel="nofollow" style="color: rgb(54\, 88\, 153)\; line-height: 18.76px\; font-family: helvetica\, arial\, sans-serif\; font-size: 14px\; text-decoration: none\; cursor: pointer\;">www.facebook.com/mydarlinglittlecircle</a><br />\n<a href="http://l.facebook.com/l.php?u=http%3A%2F%2Fwww.etsy.com%2Fshop%2FFantasyFeltArt&amp\;h=nAQFI6Ud-&amp\;enc=AZO9V57D_z8i2pQL5-G8hOrGQQabyOxnrlqAM_5ooT7Vq_XIi8pDb_3pjnLk7yDoEvA&amp\;s=1" rel="nofollow nofollow" style="color: rgb(54\, 88\, 153)\; line-height: 18.76px\; font-family: helvetica\, arial\, sans-serif\; font-size: 14px\; text-decoration: none\; cursor: pointer\;" target="_blank">www.etsy.com/shop/FantasyFeltArt</a><br />\n<span style="color: rgb(75\, 79\, 86)\; font-family: helvetica\,arial\,sans-serif\; font-size: 14px\;">odd bead in\, 706-745-7446 32C Town Square\, Blairsville</span><br />\n<a href="http://www.facebook.com/homewerkshomeservices/" rel="nofollow" style="color: rgb(54\, 88\, 153)\; line-height: 18.76px\; font-family: helvetica\, arial\, sans-serif\; font-size: 14px\; cursor: pointer\;">www.facebook.com/homewerkshomeservices/</a><br />\nhttps://www.facebook.com/OldMoonMercantile/
LOCATION:Victoria Center 3196 GA 515 Blairsville\, Georgia 30512
UID:e.256.51262
SEQUENCE:3
DTSTAMP:20260420T203905Z
URL:https://members.visitblairsvillega.com/events/details/mtns-eatery-s-dine-and-donate-s-a-f-e-event-06-08-2016-51262
END:VEVENT

END:VCALENDAR
