BEGIN:VCALENDAR
VERSION:2.0
PRODID:-//ChamberMaster//Event Calendar 2.0//EN
METHOD:PUBLISH
X-PUBLISHED-TTL:P3D
REFRESH-INTERVAL:P3D
CALSCALE:GREGORIAN
BEGIN:VEVENT
DTSTART:20140206T230000Z
DTEND:20140207T020000Z
X-MICROSOFT-CDO-ALLDAYEVENT:FALSE
SUMMARY:Murder Mystery Dinner
DESCRIPTION:There has been a Murder at the Deadwood Saloon and the Sheriff needs your help to find out "Who dun' it" A night of mystery and mayhem in the Wild West\, you are invited to join us on February 6th beginning at 6pm for our Murder Mystery Cowboy Dinner at Brasstown Valley Resort Stables in Young Harris. Come dressed for the old west and get ready to enjoy food and fun. Your 30.00 ticket includes the all you can eat buffet and a role in the mystery dinner. A cash bar will be available. Contact us for more info at 706-379-4606
X-ALT-DESC;FMTTYPE=text/html:There has been a Murder at the Deadwood Saloon and the Sheriff needs your help to find out &quot\;Who dun&#39\; it&quot\; A night of mystery and mayhem in the Wild West\, you are invited to join us on February 6th beginning at 6pm for our Murder Mystery Cowboy Dinner at Brasstown Valley Resort Stables in Young Harris. Come dressed for the old west and get ready to enjoy food and fun. Your 30.00 ticket includes the all you can eat buffet and a role in the mystery dinner. A cash bar will be available. Contact us for more info at 706-379-4606 
LOCATION:Brasstown Valley Resort Stables Young Harris GA
UID:e.256.22878
SEQUENCE:3
DTSTAMP:20260424T164451Z
URL:https://members.visitblairsvillega.com/events/details/murder-mystery-dinner-02-06-2014-22878
END:VEVENT

END:VCALENDAR
