BEGIN:VCALENDAR
VERSION:2.0
PRODID:-//ChamberMaster//Event Calendar 2.0//EN
METHOD:PUBLISH
X-PUBLISHED-TTL:P3D
REFRESH-INTERVAL:P3D
CALSCALE:GREGORIAN
BEGIN:VEVENT
DTSTART;VALUE=DATE:20140222
DTEND;VALUE=DATE:20140223
TRANSP:TRANSPARENT
X-MICROSOFT-CDO-ALLDAYEVENT:TRUE
SUMMARY:Murder Mystery Dinner
DESCRIPTION:MURDER AT CRANE CREEK VINEYARDS February 22\, 2014 (more details to come)\n\nBe a part of our first ever Murder Mystery Dinner performed by Random Acts. Bob loved wine... and Bob loved this winery! We are gathering here\, at Crane Creek Vineyards\, at the very vineyard where Bob died to celebrate his life. Did YOU kill Bob? Be a part of our first ever Murder Mystery Dinner. $60 +tax per guest. Limited Availability.
X-ALT-DESC;FMTTYPE=text/html:MURDER AT CRANE CREEK VINEYARDS February 22\, 2014 (more details to come)<br />\nBe a part of our first ever Murder Mystery Dinner performed by Random Acts. Bob loved wine... and Bob loved this winery! We are gathering here\, at Crane Creek Vineyards\, at the very vineyard where Bob died to celebrate his life. Did YOU kill Bob? Be a part of our first ever Murder Mystery Dinner. $60 +tax per guest. Limited Availability. 
LOCATION:Crane Creek Vineyards 916 Crane Creek Road Young Harris\, GA 30582
UID:e.256.22071
SEQUENCE:3
DTSTAMP:20260424T165032Z
URL:https://members.visitblairsvillega.com/events/details/murder-mystery-dinner-02-22-2014-22071
END:VEVENT

END:VCALENDAR
