BEGIN:VCALENDAR
VERSION:2.0
PRODID:-//ChamberMaster//Event Calendar 2.0//EN
METHOD:PUBLISH
X-PUBLISHED-TTL:P3D
REFRESH-INTERVAL:P3D
CALSCALE:GREGORIAN
BEGIN:VEVENT
DTSTART:20160130T220000Z
DTEND:20160131T020000Z
X-MICROSOFT-CDO-ALLDAYEVENT:FALSE
SUMMARY:Murder Mystery Dinner Theater with Elite Escapes
DESCRIPTION:A fun filled evening at a hilarious murder mystery dinner theater in Ellijay with Elite Escapes! Come make new friends or bring some of your own\, Elite Escapes limo bus will provide luxury transportation to and from Ellijay and you will be entertained with a great dinner theater.\n\n\n\nYour menu is as follows:\n\nHors d'oeuvres\, refreshments\, salad\, dinner of pot roast with loaded mashed potatoes\, and dessert (A vegetarian option available by request).
X-ALT-DESC;FMTTYPE=text/html:<span style="font-size:14px\;">A fun filled evening at a hilarious murder mystery dinner theater in Ellijay with Elite Escapes! Come make new friends or bring some of your own\, Elite Escapes limo bus will provide luxury transportation to and from Ellijay and you will be entertained with a great dinner theater.<br />\n<br />\n<span style="color: rgb(255\, 0\, 0)\;"><span style="color: rgb(0\, 0\, 0)\;">Your menu is as follows:<br />\nHors d&rsquo\;oeuvres\, refreshments\, salad\, dinner of pot roast with loaded mashed potatoes\, and dessert (A vegetarian option available by request).</span></span></span>
LOCATION:Picking up at Blairsville Park & Ride with Ellijay being your destination of fun.
UID:e.256.48229
SEQUENCE:3
DTSTAMP:20260421T060152Z
URL:https://members.visitblairsvillega.com/events/details/murder-mystery-dinner-theater-with-elite-escapes-01-30-2016-48229
END:VEVENT

END:VCALENDAR
