BEGIN:VCALENDAR
VERSION:2.0
PRODID:-//ChamberMaster//Event Calendar 2.0//EN
METHOD:PUBLISH
X-PUBLISHED-TTL:P3D
REFRESH-INTERVAL:P3D
CALSCALE:GREGORIAN
BEGIN:VEVENT
DTSTART:20170527T143000Z
DTEND:20170527T153000Z
X-MICROSOFT-CDO-ALLDAYEVENT:FALSE
SUMMARY:Muscles\, Muscles\, Muscles
DESCRIPTION:Why do our muscles cause so much pain? Learn what you can do to make them Happy & Healthy again. There are some hidden reasons why we are having pain. You will experience some ways to get relief and to correct the cause. Bring your pain and get individual help. RSVP 706-781-4048  $5
X-ALT-DESC;FMTTYPE=text/html:Why do our muscles cause so much pain? Learn what you can do to make them Happy &amp\; Healthy again. There are some hidden reasons why we are having pain. You will experience some ways to get relief and to correct the cause. Bring your pain and get individual help. RSVP 706-781-4048&nbsp\; $5<br />\n&nbsp\;
LOCATION:64 Bracketts Way\, Suite 9 Blairsville\, GA
UID:e.256.69109
SEQUENCE:3
DTSTAMP:20260420T005944Z
URL:https://members.visitblairsvillega.com/events/details/muscles-muscles-muscles-69109
END:VEVENT

END:VCALENDAR
