BEGIN:VCALENDAR
VERSION:2.0
PRODID:-//ChamberMaster//Event Calendar 2.0//EN
METHOD:PUBLISH
X-PUBLISHED-TTL:P3D
REFRESH-INTERVAL:P3D
CALSCALE:GREGORIAN
BEGIN:VEVENT
DTSTART:20170507T150000Z
DTEND:20170507T200000Z
X-MICROSOFT-CDO-ALLDAYEVENT:FALSE
SUMMARY:Music in the Park
DESCRIPTION:We will have Steel Drum Music and Full Throttle BBQ Plates for $7.00 proceeds to help us buy some new instruments.
X-ALT-DESC;FMTTYPE=text/html:We will have Steel Drum Music and Full Throttle BBQ Plates for $7.00 proceeds to help us buy some new instruments.&nbsp\;
LOCATION:Meeks Park\, Blairsville GA
UID:e.256.71586
SEQUENCE:3
DTSTAMP:20260420T023933Z
URL:https://members.visitblairsvillega.com/events/details/music-in-the-park-71586
END:VEVENT

END:VCALENDAR
