BEGIN:VCALENDAR
VERSION:2.0
PRODID:-//ChamberMaster//Event Calendar 2.0//EN
METHOD:PUBLISH
X-PUBLISHED-TTL:P3D
REFRESH-INTERVAL:P3D
CALSCALE:GREGORIAN
BEGIN:VEVENT
DTSTART:20151003T230000Z
DTEND:20151004T020000Z
X-MICROSOFT-CDO-ALLDAYEVENT:FALSE
SUMMARY:Musical Variety Show - Unity Church of the Mountains
DESCRIPTION:International performers and recording artists\, Armand and Angelina. They offer a fantastic\, uplifting show\, full of humor\, passion for life and love for each other. Their music is a unique blend of rock and opera incorporating Native American flute. It's been coined a variety show because their performance is filled with music\, comedy\, dance and more. Come see them and learn a new twist on giving and receiving. They love giving away stuff!!!
X-ALT-DESC;FMTTYPE=text/html:International performers and recording artists\, Armand and Angelina. They offer a fantastic\, uplifting show\, full of humor\, passion for life and love for each other. Their music is a unique blend of rock and opera incorporating Native American flute. It&#39\;s been coined a variety show because their performance is filled with music\, comedy\, dance and more. Come see them and learn a new twist on giving and receiving. They love giving away stuff!!!
LOCATION:Unity Church of the Mountains\, 2309 Murphy Highway\, Blairsville
UID:e.256.43912
SEQUENCE:3
DTSTAMP:20260423T104201Z
URL:https://members.visitblairsvillega.com/events/details/musical-variety-show-unity-church-of-the-mountains-10-03-2015-43912
END:VEVENT

END:VCALENDAR
