BEGIN:VCALENDAR
VERSION:2.0
PRODID:-//ChamberMaster//Event Calendar 2.0//EN
METHOD:PUBLISH
X-PUBLISHED-TTL:P3D
REFRESH-INTERVAL:P3D
CALSCALE:GREGORIAN
BEGIN:VEVENT
DTSTART:20140610T140000Z
DTEND:20140610T170000Z
X-MICROSOFT-CDO-ALLDAYEVENT:FALSE
SUMMARY:My Journey to President of Chick - fil - A\, Speaker Jimmy Collins
DESCRIPTION:Tuesday\, June 10th at 10am\n\nCoosa Methodist Church\, on Mulky Gap Road\n\n\n\nThe Coosa Methodist Women's Group\, Circle of Friends announces the speaker for June meeting will be Retired President and COO of Chick-fil-A\, Mr Jimmy Collins. He will be talking on his new book "Creative Followership\, In the Shadow of Greatness" Truett Cathy and Jimmy Collins launched Chick - fil - A from a small local restaurant to the billion dollar company it is today.
X-ALT-DESC;FMTTYPE=text/html:Tuesday\, June 10th at 10am<br />\nCoosa Methodist Church\, on Mulky Gap Road<br />\n<br />\nThe Coosa Methodist Women&#39\;s Group\, Circle of Friends announces the speaker for June meeting&nbsp\;will be Retired President and COO of Chick-fil-A\, Mr Jimmy Collins. He will be talking on his new book &quot\;<strong>Creative</strong> <strong>Followership\, In the Shadow of Greatness</strong>&quot\; Truett Cathy and Jimmy Collins launched Chick - fil - A from a small local restaurant to the billion dollar company it is today.
LOCATION:Coosa Methodist Church Mulky Gap Road Blairsville\, GA
UID:e.256.24509
SEQUENCE:3
DTSTAMP:20260424T105846Z
URL:https://members.visitblairsvillega.com/events/details/my-journey-to-president-of-chick-fil-a-speaker-jimmy-collins-06-10-2014-24509
END:VEVENT

END:VCALENDAR
