BEGIN:VCALENDAR
VERSION:2.0
PRODID:-//ChamberMaster//Event Calendar 2.0//EN
METHOD:PUBLISH
X-PUBLISHED-TTL:P3D
REFRESH-INTERVAL:P3D
CALSCALE:GREGORIAN
BEGIN:VEVENT
DTSTART:20150108T170000Z
DTEND:20150108T183000Z
X-MICROSOFT-CDO-ALLDAYEVENT:FALSE
SUMMARY:NAMI Blairsville Family Support Group
DESCRIPTION:NAMI Blairsville provides support\, education\, and advocacy to individuals and families living with mental illness.\n\nNAMI Blairsville provides support groups\, education and advocacy for individuals and families living with mental illness. - See more at: http://members.visitblairsvillega.com/list/member/national-alliance-on-mental-illness-blairsville-1575#sthash.am4YBnwo.dpuf\nNAMI Blairsville provides support groups\, education and advocacy for individuals and families living with mental illness. - See more at: http://members.visitblairsvillega.com/list/member/national-alliance-on-mental-illness-blairsville-1575#sthash.am4YBnwo.dpuf\nNAMI Blairsville provides support groups\, education and advocacy for individuals and families living with mental illness. - See more at: http://members.visitblairsvillega.com/list/member/national-alliance-on-mental-illness-blairsville-1575#sthash.am4YBnwo.dpuf
X-ALT-DESC;FMTTYPE=text/html:<span style="font-size: 12pt\; font-family: arial\,helvetica\,sans-serif\;">&nbsp\;NAMI Blairsville provides support\, education\, and advocacy to individuals and families living with mental illness.</span>\n\n<div id="stcpDiv" style="position: absolute\; top: -1999px\; left: -1988px\;">NAMI Blairsville provides support groups\, education and advocacy for individuals and families living with mental illness. - See more at: http://members.visitblairsvillega.com/list/member/national-alliance-on-mental-illness-blairsville-1575#sthash.am4YBnwo.dpuf\n<div id="stcpDiv" style="position: absolute\; top: -1999px\; left: -1988px\;">NAMI Blairsville provides support groups\, education and advocacy for individuals and families living with mental illness. - See more at: http://members.visitblairsvillega.com/list/member/national-alliance-on-mental-illness-blairsville-1575#sthash.am4YBnwo.dpuf\n<div id="stcpDiv" style="position: absolute\; top: -1999px\; left: -1988px\;">NAMI Blairsville provides support groups\, education and advocacy for individuals and families living with mental illness. - See more at: http://members.visitblairsvillega.com/list/member/national-alliance-on-mental-illness-blairsville-1575#sthash.am4YBnwo.dpuf</div>\n</div>\n</div>\n
LOCATION:New Hope Counseling 76 Hunt-Martin Street.
UID:e.256.33620
SEQUENCE:3
DTSTAMP:20260424T003614Z
URL:https://members.visitblairsvillega.com/events/details/nami-blairsville-family-support-group-01-08-2015-33620
END:VEVENT

END:VCALENDAR
