BEGIN:VCALENDAR
VERSION:2.0
PRODID:-//ChamberMaster//Event Calendar 2.0//EN
METHOD:PUBLISH
X-PUBLISHED-TTL:P3D
REFRESH-INTERVAL:P3D
CALSCALE:GREGORIAN
BEGIN:VEVENT
DTSTART:20170325T150000Z
DTEND:20170326T000000Z
X-MICROSOFT-CDO-ALLDAYEVENT:FALSE
SUMMARY:Nani's "Throwback in Time" Celebration
DESCRIPTION:Ray\, Marie\, Natasha\, and Giusseph Arrazcaeta of Nani's Cuban Restaurant are celebrating 10 years of serving great food\, meeting new people\, and making good friends.  On March 25\, Nani's will have a "Throwback in Time" event with food prices on select items that "got us started" at 2007 prices!\n\nThese specials will be served on that day only from 11 a.m. - 8 p.m. while supplies last.\n2007 Priced Specials\n\nChili\n\nPork Sandwich\n\nTaquitos
X-ALT-DESC;FMTTYPE=text/html:Ray\, Marie\, Natasha\, and Giusseph Arrazcaeta of Nani&#39\;s Cuban Restaurant are celebrating 10 years of serving great food\, meeting new people\, and making good friends.&nbsp\; On March 25\, Nani&#39\;s will have a &quot\;Throwback in Time&quot\; event with <strong>food prices on select items </strong>that &quot\;got us started&quot\; at <strong>2007</strong> prices!<br />\nThese specials will be served on that day only from 11 a.m. - 8 p.m. while supplies last.\n<div style="text-align: center\;"><span style="font-size: 14px\;"><span style="color: rgb(255\, 0\, 0)\;"><strong>2007 Priced Specials</strong><br />\nChili<br />\nPork Sandwich<br />\nTaquitos</span></span></div>\n
LOCATION:Nani's Cuban Restaurant 51D Earnest St Blairsville\, GA 30512
UID:e.256.69247
SEQUENCE:3
DTSTAMP:20260420T042225Z
URL:https://members.visitblairsvillega.com/events/details/nani-s-throwback-in-time-celebration-69247
END:VEVENT

END:VCALENDAR
