BEGIN:VCALENDAR
VERSION:2.0
PRODID:-//ChamberMaster//Event Calendar 2.0//EN
METHOD:PUBLISH
X-PUBLISHED-TTL:P3D
REFRESH-INTERVAL:P3D
CALSCALE:GREGORIAN
BEGIN:VEVENT
DTSTART;VALUE=DATE:20160410
DTEND;VALUE=DATE:20160411
TRANSP:TRANSPARENT
X-MICROSOFT-CDO-ALLDAYEVENT:TRUE
SUMMARY:NAPA Biggest Sales Event Ever
DESCRIPTION:Head to Kaye's Auto Parts for big savings on the NAPA Gold Filter
X-ALT-DESC;FMTTYPE=text/html:Head to Kaye&#39\;s Auto Parts for big savings on the NAPA Gold Filter
LOCATION:Kaye's Auto Parts 141 Young Harris St. Blairsville\, Ga 30512
UID:e.256.50649
SEQUENCE:3
DTSTAMP:20260421T021954Z
URL:https://members.visitblairsvillega.com/events/details/napa-biggest-sales-event-ever-04-10-2016-50649
END:VEVENT

END:VCALENDAR
