BEGIN:VCALENDAR
VERSION:2.0
PRODID:-//ChamberMaster//Event Calendar 2.0//EN
METHOD:PUBLISH
X-PUBLISHED-TTL:P3D
REFRESH-INTERVAL:P3D
CALSCALE:GREGORIAN
BEGIN:VEVENT
DTSTART:20150311T160000Z
DTEND:20150311T183000Z
X-MICROSOFT-CDO-ALLDAYEVENT:FALSE
SUMMARY:National Alliance on Mental Illness Education Program
DESCRIPTION:A series of 12 sessions structured to help caregivers understand and support\n\nindividuals with serious mental illness while maintaining their own well-being. The course is taught by a team of trained NAMI family member volunteers who know what it's like to have a loved one struggling with one of these brain disorders. Class Facilitators: Linda Beaver and Suzanne Moore.\n\nFor family members\, partners\, and friends of individuals with:\n\nMajor Depression\, Bipolar Disorder\, Schizophrenia and Schizoaffective Disorder\, Borderline Personality Disorder\, Panic Disorder and Obsessive Compulsive Disorder\, Post Traumatic Stress Disorder (PTSD)\n\nCo-occurring Brain Disorders\, and Addictive Disorders.\n\nPlease call or email to register.
X-ALT-DESC;FMTTYPE=text/html:A series of 12 sessions structured to help caregivers understand and support<br />\nindividuals with serious mental illness while maintaining their own well-being. The course is taught by a team of trained NAMI family member volunteers who know what it&rsquo\;s like to have a loved one struggling with one of these brain disorders. Class Facilitators: Linda Beaver and Suzanne Moore.<br />\nFor family members\, partners\, and friends of individuals with:<br />\nMajor Depression\, Bipolar Disorder\, Schizophrenia and Schizoaffective Disorder\, Borderline Personality Disorder\, Panic Disorder and Obsessive Compulsive Disorder\, Post Traumatic Stress Disorder (PTSD)<br />\nCo-occurring Brain Disorders\, and Addictive Disorders.<br />\nPlease call or email to register.<br />\n&nbsp\;
LOCATION:Union General Hospital Classroom 35 Hospital Rd. Blairsville\, Georgia
UID:e.256.33632
SEQUENCE:3
DTSTAMP:20260423T211926Z
URL:https://members.visitblairsvillega.com/events/details/national-alliance-on-mental-illness-education-program-03-11-2015-33632
END:VEVENT

END:VCALENDAR
