BEGIN:VCALENDAR
VERSION:2.0
PRODID:-//ChamberMaster//Event Calendar 2.0//EN
METHOD:PUBLISH
X-PUBLISHED-TTL:P3D
REFRESH-INTERVAL:P3D
CALSCALE:GREGORIAN
BEGIN:VEVENT
DTSTART:20150927T180000Z
DTEND:20150927T220000Z
X-MICROSOFT-CDO-ALLDAYEVENT:FALSE
SUMMARY:National Alpaca Farm Days
DESCRIPTION:Get Your Alpaca Kiss\, take a farm tour\, interact with alpacas\, feed them treats\, see fiber demos plus enjoy some some light refreshments!!
X-ALT-DESC;FMTTYPE=text/html:Get Your Alpaca Kiss\, take a farm tour\, interact with alpacas\, feed them treats\, see fiber demos plus enjoy some some light refreshments!!
LOCATION:Jerae's Unity Alpacas 1338 Henson Rd Blairsville\, GA
UID:e.256.44208
SEQUENCE:3
DTSTAMP:20260423T134114Z
URL:https://members.visitblairsvillega.com/events/details/national-alpaca-farm-days-09-27-2015-44208
END:VEVENT

END:VCALENDAR
