BEGIN:VCALENDAR
VERSION:2.0
PRODID:-//ChamberMaster//Event Calendar 2.0//EN
METHOD:PUBLISH
X-PUBLISHED-TTL:P3D
REFRESH-INTERVAL:P3D
CALSCALE:GREGORIAN
BEGIN:VEVENT
DTSTART:20160910T143000Z
DTEND:20160910T153000Z
X-MICROSOFT-CDO-ALLDAYEVENT:FALSE
SUMMARY:National Day of Remembrance for Aborted Children
DESCRIPTION:Ecumenical Event to honor the memory of the more than 59 million unborn victims of abortion since Roe v Wade and to pray for the healing for those who have been hurt by an abortion decision.
X-ALT-DESC;FMTTYPE=text/html:Ecumenical Event to honor the memory of the more than 59 million unborn victims of abortion since Roe v Wade and to pray for the healing for those who have been hurt by an abortion decision.
LOCATION:St. Francis of Assisi Catholic Church\, 3717 Hwy 515 East\, Blairsville\, GA 30512
UID:e.256.55590
SEQUENCE:3
DTSTAMP:20260420T145543Z
URL:https://members.visitblairsvillega.com/events/details/national-day-of-remembrance-for-aborted-children-09-10-2016-55590
END:VEVENT

END:VCALENDAR
