BEGIN:VCALENDAR
VERSION:2.0
PRODID:-//ChamberMaster//Event Calendar 2.0//EN
METHOD:PUBLISH
X-PUBLISHED-TTL:P3D
REFRESH-INTERVAL:P3D
CALSCALE:GREGORIAN
BEGIN:VEVENT
DTSTART:20140131T150000Z
DTEND:20140131T170000Z
X-MICROSOFT-CDO-ALLDAYEVENT:FALSE
SUMMARY:Native Plant ID Seminar
DESCRIPTION:Mr. Mickey Cummings\, is back to speak about one of his favorite subjects\, native plants. Mickey will present information on the trees\, shrubs and wildflowers native to this area\, and give us guidance on how to identify them. In addition\, Mickey's book on native plants will be available for sale after the event. Mr. Cummings is the University of Georgia\, Union County Extension Agent.
X-ALT-DESC;FMTTYPE=text/html:Mr. Mickey Cummings\, is back to speak about one of his favorite subjects\, native plants. Mickey will present information on the trees\, shrubs and wildflowers native to this area\, and give us guidance on how to identify them. In addition\, Mickey&#39\;s book on native plants will be available for sale after the event. Mr. Cummings is the University of Georgia\, Union County Extension Agent.<br type="_moz" />\n
LOCATION:The University of Georgia Mountain Research & Education Center\, 3 miles south of the Blairsville Square\, on the east side of Hwy 19/129.
UID:e.256.22475
SEQUENCE:3
DTSTAMP:20260424T180439Z
URL:https://members.visitblairsvillega.com/events/details/native-plant-id-seminar-01-31-2014-22475
END:VEVENT

END:VCALENDAR
