BEGIN:VCALENDAR
VERSION:2.0
PRODID:-//ChamberMaster//Event Calendar 2.0//EN
METHOD:PUBLISH
X-PUBLISHED-TTL:P3D
REFRESH-INTERVAL:P3D
CALSCALE:GREGORIAN
BEGIN:VEVENT
DTSTART:20160312T220000Z
DTEND:20160313T020000Z
X-MICROSOFT-CDO-ALLDAYEVENT:FALSE
SUMMARY:Natural Bodybuilding Physique Federation Second Annual Championships
DESCRIPTION:Natural Bodybuilding Physique Federation (NBPF) will be holding their second annual swimsuit\, figure\, and bodybuilding championships in the great smoky mountains. NBPF is an all natural Christian organization that believes the human body is the holy temple. NBPF will be hosting a wide variety of competitive classes that will vary from weight\, height\, and age. Each competitor will be administered a drug test approved by the NBPF. A professional and experienced judges panel will exercise their expertise in comparisons among competitors in the morning event. Evening finals will be a show the south is sure to remember with group comparison and single performances. Placement and overall winners will be awarded with prizes and limited sponsorship.
X-ALT-DESC;FMTTYPE=text/html:Natural Bodybuilding Physique Federation (NBPF) will be holding their second annual swimsuit\, figure\, and bodybuilding championships in the great smoky mountains. NBPF is an all natural Christian organization that believes the human body is the holy temple. NBPF will be hosting a wide variety of competitive classes that will vary from weight\, height\, and age. Each competitor will be administered a drug test approved by the NBPF. A professional and experienced judges panel will exercise their expertise in comparisons among competitors in the morning event. Evening finals will be a show the south is sure to remember with group comparison and single performances. Placement and overall winners will be awarded with prizes and limited sponsorship.
LOCATION:Smoky Mountain Center for the Performing Arts 1028 Georgia Road Franklin\, NC 28734
UID:e.256.48130
SEQUENCE:3
DTSTAMP:20260421T022526Z
URL:https://members.visitblairsvillega.com/events/details/natural-bodybuilding-physique-federation-second-annual-championships-03-12-2016-48130
END:VEVENT

END:VCALENDAR
