BEGIN:VCALENDAR
VERSION:2.0
PRODID:-//ChamberMaster//Event Calendar 2.0//EN
METHOD:PUBLISH
X-PUBLISHED-TTL:P3D
REFRESH-INTERVAL:P3D
CALSCALE:GREGORIAN
BEGIN:VEVENT
DTSTART:20160624T230000Z
DTEND:20160625T000000Z
X-MICROSOFT-CDO-ALLDAYEVENT:FALSE
SUMMARY:Natural Treatments for Brain and Body: Classes and Happenings
DESCRIPTION:Feel Good Friday:\n\nWant to have fun with a great group of like minds--Ever wish you could turn how you are feeling around quickly instead of replaying it a thousand times  We will experience ways to do this and even see a video about how others have done it.\n\n**This class is FREE
X-ALT-DESC;FMTTYPE=text/html:<p>Feel Good Friday:<br />\nWant to have fun with a great group of like minds--Ever wish you could turn how you are feeling around quickly instead of replaying it a thousand times&gt\; We will experience ways to do this and even see a video about how others have done it.</p>\n\n<p>**This class is FREE</p>\n
LOCATION:
UID:e.256.53018
SEQUENCE:3
DTSTAMP:20260420T204540Z
URL:https://members.visitblairsvillega.com/events/details/natural-treatments-for-brain-and-body-classes-and-happenings-06-24-2016-53018
END:VEVENT

END:VCALENDAR
