BEGIN:VCALENDAR
VERSION:2.0
PRODID:-//ChamberMaster//Event Calendar 2.0//EN
METHOD:PUBLISH
X-PUBLISHED-TTL:P3D
REFRESH-INTERVAL:P3D
CALSCALE:GREGORIAN
BEGIN:VEVENT
DTSTART:20160729T230000Z
DTEND:20160730T000000Z
X-MICROSOFT-CDO-ALLDAYEVENT:FALSE
SUMMARY:Natural Treatments for Brain and Body: Classes and Happenings
DESCRIPTION:Feel Good Friday:\n\nThe Last Friday of the month we gather to share and be in a positive space with friendly people. This month we will have show and tell. Experience sound therapy\, light therapy\, change your brain waves with special glasses and more fun things to feel better. \n\n** FREE
X-ALT-DESC;FMTTYPE=text/html:<p>Feel Good Friday:<br />\nThe Last Friday of the month we gather to share and be in a positive space with friendly people. This month we will have show and tell. Experience sound therapy\, light therapy\, change your brain waves with special glasses and more fun things to feel better.&nbsp\;</p>\n\n<p>** FREE</p>\n
LOCATION:
UID:e.256.53020
SEQUENCE:3
DTSTAMP:20260420T184528Z
URL:https://members.visitblairsvillega.com/events/details/natural-treatments-for-brain-and-body-classes-and-happenings-07-29-2016-53020
END:VEVENT

END:VCALENDAR
