BEGIN:VCALENDAR
VERSION:2.0
PRODID:-//ChamberMaster//Event Calendar 2.0//EN
METHOD:PUBLISH
X-PUBLISHED-TTL:P3D
REFRESH-INTERVAL:P3D
CALSCALE:GREGORIAN
BEGIN:VEVENT
DTSTART:20160604T140000Z
DTEND:20160604T170000Z
X-MICROSOFT-CDO-ALLDAYEVENT:FALSE
SUMMARY:Nature Inspires Garden Tour
DESCRIPTION:Learn how to use native plants in your landscape\, through seeing the plants at work in our gardens.
X-ALT-DESC;FMTTYPE=text/html:Learn how to use native plants in your landscape\, through seeing the plants at work in our gardens.
LOCATION:The Ethno Botanic Gardens\, on the grounds of the Georgia Mountain Research & Education Center\, 3 miles south of the Blairsville Square\, on the east side of Hwy 19/129. Follow the signs to the parking area on the GMRE Center grounds. Walking out doors on hills and uneven surfaces will be required. Children are welcome at this event.
UID:e.256.46195
SEQUENCE:3
DTSTAMP:20260420T223037Z
URL:https://members.visitblairsvillega.com/events/details/nature-inspires-garden-tour-06-04-2016-46195
END:VEVENT

END:VCALENDAR
