BEGIN:VCALENDAR
VERSION:2.0
PRODID:-//ChamberMaster//Event Calendar 2.0//EN
METHOD:PUBLISH
X-PUBLISHED-TTL:P3D
REFRESH-INTERVAL:P3D
CALSCALE:GREGORIAN
BEGIN:VEVENT
DTSTART:20150606T140000Z
DTEND:20150606T170000Z
X-MICROSOFT-CDO-ALLDAYEVENT:FALSE
SUMMARY:Nature Inspires Garden Tour and Open House
DESCRIPTION:GMRE Center Preservation Committee.  Learn how to use native plants in your landscape\, through seeing the plants at work in our gardens.  Walking outdoors on hills and uneven surfaces will be required.  Dress appropriately for weather\, and please leave your doggie friends at home.
X-ALT-DESC;FMTTYPE=text/html:GMRE Center Preservation Committee.&nbsp\; Learn how to use native plants in your landscape\, through seeing the plants at work in our gardens.&nbsp\; Walking outdoors on hills and uneven surfaces will be required.&nbsp\; Dress appropriately for weather\, and please leave your doggie friends at home.
LOCATION:Georgia Mountain Research Center 195 Georgia Mountain Experiment Station Road Blairsville\, GA 30512 * Follow the signs to the parking area on the GMRE Center grounds.
UID:e.256.36660
SEQUENCE:3
DTSTAMP:20260423T182705Z
URL:https://members.visitblairsvillega.com/events/details/nature-inspires-garden-tour-and-open-house-06-06-2015-36660
END:VEVENT

END:VCALENDAR
