BEGIN:VCALENDAR
VERSION:2.0
PRODID:-//ChamberMaster//Event Calendar 2.0//EN
METHOD:PUBLISH
X-PUBLISHED-TTL:P3D
REFRESH-INTERVAL:P3D
CALSCALE:GREGORIAN
BEGIN:VEVENT
DTSTART:20160311T180000Z
DTEND:20160311T190000Z
X-MICROSOFT-CDO-ALLDAYEVENT:FALSE
SUMMARY:Navy SeaBee Veterans of America
DESCRIPTION:The Navy SeaBees meet the 2nd Friday of every month at 1pm in the Veterans Center.
X-ALT-DESC;FMTTYPE=text/html:The Navy SeaBees meet the 2nd Friday of every month at 1pm in the Veterans Center.
LOCATION:Major Leon Davenport Veteran Center 78 Blue Ridge Highway Blairsville\, GA 30512
UID:e.256.40030
SEQUENCE:3
DTSTAMP:20260421T040505Z
URL:https://members.visitblairsvillega.com/events/details/navy-seabee-veterans-of-america-03-11-2016-40030
END:VEVENT

END:VCALENDAR
