BEGIN:VCALENDAR
VERSION:2.0
PRODID:-//ChamberMaster//Event Calendar 2.0//EN
METHOD:PUBLISH
X-PUBLISHED-TTL:P3D
REFRESH-INTERVAL:P3D
CALSCALE:GREGORIAN
BEGIN:VEVENT
DTSTART:20170611T160000Z
DTEND:20170611T210000Z
X-MICROSOFT-CDO-ALLDAYEVENT:FALSE
SUMMARY:NE Georgia - W. North Carolina Home & Garden Show
DESCRIPTION:See the newest in home improvement products & services\, new homes & remodeling ideas.  Also see furnishings\, accessories\, decorating & the newest trends for today.  The latest from floor to roof\, patio to pool\, inside & out\, landscaping & more.
X-ALT-DESC;FMTTYPE=text/html:See the newest in home improvement products &amp\; services\, new homes&nbsp\;&amp\; remodeling ideas.&nbsp\; Also see furnishings\, accessories\, decorating &amp\; the newest trends for today.&nbsp\; The latest from floor to roof\, patio to pool\, inside &amp\; out\, landscaping &amp\; more.
LOCATION:The Event Center at Fieldstone. (Formerly Fun World) next to the Fieldstone Cinemas\, 1159 Jack Dayton Circle\, Young Harris\, Georgia.
UID:e.256.62188
SEQUENCE:3
DTSTAMP:20260420T010627Z
URL:https://members.visitblairsvillega.com/events/details/ne-georgia-w-north-carolina-home-garden-show-06-11-2017-62188
END:VEVENT

END:VCALENDAR
