BEGIN:VCALENDAR
VERSION:2.0
PRODID:-//ChamberMaster//Event Calendar 2.0//EN
METHOD:PUBLISH
X-PUBLISHED-TTL:P3D
REFRESH-INTERVAL:P3D
CALSCALE:GREGORIAN
BEGIN:VEVENT
DTSTART:20160701T233000Z
DTEND:20160702T013000Z
X-MICROSOFT-CDO-ALLDAYEVENT:FALSE
SUMMARY:Neal McCoy
DESCRIPTION:Date: July 1\, 2016 Show Time: 7:30pm Ticket Prices: $24\, $27\, $30 Neal McCoy has released ten studio albums on various labels\, and has released 34 singles to country radio. In 1992\, McCoy hit the top 40 charts with "Where Forever Begins\," and a year later with the back-to-back number 1 singles "No Doubt About It" and "Wink" from his platinum-certified album\, No Doubt About It. Since the mid-nineties\, his commercial success has continued to grow with two more platinum albums and a gold album\, as well as six more Top Ten hits. A seventh Top Ten hit\, "Billy's Got His Beer Goggles On"\, came in 2005 from his self-released That's Life. Neal also supports his own charity organization: East Texas Angel Network\, which is committed to the enhancement of the lives of children of East Texas who are living with terminal or life-threatening diseases.
X-ALT-DESC;FMTTYPE=text/html:Date: July 1\, 2016 Show Time: 7:30pm Ticket Prices: $24\, $27\, $30 Neal McCoy has released ten studio albums on various labels\, and has released 34 singles to country radio. In 1992\, McCoy hit the top 40 charts with &quot\;Where Forever Begins\,&quot\; and a year later with the back-to-back number 1 singles &quot\;No Doubt About It&quot\; and &quot\;Wink&quot\; from his platinum-certified album\, No Doubt About It. Since the mid-nineties\, his commercial success has continued to grow with two more platinum albums and a gold album\, as well as six more Top Ten hits. A seventh Top Ten hit\, &quot\;Billy&#39\;s Got His Beer Goggles On&quot\;\, came in 2005 from his self-released That&#39\;s Life. Neal also supports his own charity organization: East Texas Angel Network\, which is committed to the enhancement of the lives of children of East Texas who are living with terminal or life-threatening diseases.
LOCATION:Smoky Mountain Center for the Performing Arts 1028 Georgia Road Franklin\, NC 28734
UID:e.256.49326
SEQUENCE:3
DTSTAMP:20260420T183614Z
URL:https://members.visitblairsvillega.com/events/details/neal-mccoy-07-01-2016-49326
END:VEVENT

END:VCALENDAR
