BEGIN:VCALENDAR
VERSION:2.0
PRODID:-//ChamberMaster//Event Calendar 2.0//EN
METHOD:PUBLISH
X-PUBLISHED-TTL:P3D
REFRESH-INTERVAL:P3D
CALSCALE:GREGORIAN
BEGIN:VEVENT
DTSTART:20170701T140000Z
DTEND:20170701T203000Z
X-MICROSOFT-CDO-ALLDAYEVENT:FALSE
SUMMARY:Needle Felting a Chipmunk Class
DESCRIPTION:Learn to use special needles to felt an adorable woodland creature (chipmunk). This is a detail oriented class. We will learn to make a wire armature so your figure will be fully poseable. Learn to felt the details like eyes\, make horse hair whiskers and tiny little feet. All materials included. We begin the morning with homemade sweet breads\, coffee or tea. lunch is a warm yummy farm to table cozy affair: $99.00 each. All levels welcome Teacher: Holly Williams Holly is the owner of Lasso the Moon Alpaca Farm\, Lardworks Studio Inc and Laces of Lore Fiber Art. Holly has been teaching fiber art on the farm for over 10 years. Class Times: 10:00 am - 5:00 pm
X-ALT-DESC;FMTTYPE=text/html:Learn to use special needles to felt an adorable woodland creature (chipmunk). This is a detail oriented class. We will learn to make a wire armature so your figure will be fully poseable. Learn to felt the details like eyes\, make horse hair whiskers and tiny little feet. All materials included. We begin the morning with homemade sweet breads\, coffee or tea. lunch is a warm yummy farm to table cozy affair: $99.00 each. All levels welcome Teacher: Holly Williams Holly is the owner of Lasso the Moon Alpaca Farm\, Lardworks Studio Inc and Laces of Lore Fiber Art. Holly has been teaching fiber art on the farm for over 10 years. Class Times: 10:00 am - 5:00 pm
LOCATION:Lasso the Moon Alpaca Farm\, 106 Agape Drive\, Blairsville\, GA 30512
UID:e.256.69256
SEQUENCE:3
DTSTAMP:20260419T212505Z
URL:https://members.visitblairsvillega.com/events/details/needle-felting-a-chipmunk-class-69256
END:VEVENT

END:VCALENDAR
