BEGIN:VCALENDAR
VERSION:2.0
PRODID:-//ChamberMaster//Event Calendar 2.0//EN
METHOD:PUBLISH
X-PUBLISHED-TTL:P3D
REFRESH-INTERVAL:P3D
CALSCALE:GREGORIAN
BEGIN:VEVENT
DTSTART:20141127T160000Z
DTEND:20141127T200000Z
X-MICROSOFT-CDO-ALLDAYEVENT:FALSE
SUMMARY:Neighbor's Hand Thanksgiving Dinner
DESCRIPTION:Neighbor's Hand is delivering/serving hot meals to those in need in Union County. Reservations are required\, meals are FREE. Visit www.neighborshand.org/thanksgiving to make a reservation or volunteer. To dine-in or carry out\, please come to Blairsville House of Prayer Family Center off Pat Colwell. For more information call Neighbors' Hand at 706-745-HOPE (4673).
X-ALT-DESC;FMTTYPE=text/html:Neighbor&#39\;s Hand is delivering/serving hot meals to those in need in Union County. Reservations are required\, meals are FREE. Visit www.neighborshand.org/thanksgiving to make a reservation or volunteer. To dine-in or carry out\, please come to Blairsville House of Prayer Family Center off Pat Colwell. For more information call Neighbors&#39\; Hand at 706-745-HOPE (4673).
LOCATION:Hosted by Blairsville House of Prayer Family Center 1400 Pat Colwell Road Blairsville\, GA
UID:e.256.27922
SEQUENCE:3
DTSTAMP:20260424T033540Z
URL:https://members.visitblairsvillega.com/events/details/neighbor-s-hand-thanksgiving-dinner-11-27-2014-27922
END:VEVENT

END:VCALENDAR
