BEGIN:VCALENDAR
VERSION:2.0
PRODID:-//ChamberMaster//Event Calendar 2.0//EN
METHOD:PUBLISH
X-PUBLISHED-TTL:P3D
REFRESH-INTERVAL:P3D
CALSCALE:GREGORIAN
BEGIN:VEVENT
DTSTART:20160507T120000Z
DTEND:20160507T190000Z
X-MICROSOFT-CDO-ALLDAYEVENT:FALSE
SUMMARY:Neighbor's Hand Yard Sale
DESCRIPTION:Neighbor's Hand Thrift Store is having a yard sale at the Plantation House. All proceeds go directly to fund the women participating in our home discipleship program. For more information about the ministry and our programs visit us at www.neighborshand.org or call 706-745-HOPE (4673).
X-ALT-DESC;FMTTYPE=text/html:Neighbor&#39\;s Hand Thrift Store is having a yard sale at the Plantation House. All proceeds go directly to fund the women participating in our home discipleship program. For more information about the ministry and our programs visit us at www.neighborshand.org or call 706-745-HOPE (4673).
LOCATION:18 Veteran's Memorial Dr. 2 blocks south of the square
UID:e.256.51060
SEQUENCE:3
DTSTAMP:20260420T222922Z
URL:https://members.visitblairsvillega.com/events/details/neighbor-s-hand-yard-sale-05-07-2016-51060
END:VEVENT

END:VCALENDAR
