BEGIN:VCALENDAR
VERSION:2.0
PRODID:-//ChamberMaster//Event Calendar 2.0//EN
METHOD:PUBLISH
X-PUBLISHED-TTL:P3D
REFRESH-INTERVAL:P3D
CALSCALE:GREGORIAN
BEGIN:VEVENT
DTSTART:20160507T233000Z
DTEND:20160508T010000Z
X-MICROSOFT-CDO-ALLDAYEVENT:FALSE
SUMMARY:Nelson Illusions "Smoke & Mystery" Tour
DESCRIPTION:Date: May 7\, 2016 Show Time: 7:30pm Ticket Prices: $18 Nelson Illusions is the largest touring illusion show in the United States today featuring some the largest illusions ever seen on stage. This a one-of-a-kind theatrical spectacle combines rare & original illusions from around the world with award winning\, jaw-dropping magic. The show features 4 Master Magicians\, each with an exciting\, engaging\, original style combining a thoroughly entertaining blend of mystery\, drama\, romance\, & comedy with some of the most beautiful & astonishing stage magic in existence today- a girl sawn in half in plain view\, an elegant lady who floats in circles\, a man who melts through a sheet of solid steel\, a girl who risks death on the point of a giant industrial drill\, and much more! Nelson Illusions is 90 minutes of the BEST magical entertainment around!
X-ALT-DESC;FMTTYPE=text/html:Date: May 7\, 2016 Show Time: 7:30pm Ticket Prices: $18 Nelson Illusions is the largest touring illusion show in the United States today featuring some the largest illusions ever seen on stage. This a one-of-a-kind theatrical spectacle combines rare &amp\; original illusions from around the world with award winning\, jaw-dropping magic. The show features 4 Master Magicians\, each with an exciting\, engaging\, original style combining a thoroughly entertaining blend of mystery\, drama\, romance\, &amp\; comedy with some of the most beautiful &amp\; astonishing stage magic in existence today- a girl sawn in half in plain view\, an elegant lady who floats in circles\, a man who melts through a sheet of solid steel\, a girl who risks death on the point of a giant industrial drill\, and much more! Nelson Illusions is 90 minutes of the BEST magical entertainment around!
LOCATION:Smoky Mountain Center for the Performing Arts 1028 Georgia Road Franklin\, NC 28734
UID:e.256.48262
SEQUENCE:3
DTSTAMP:20260420T222856Z
URL:https://members.visitblairsvillega.com/events/details/nelson-illusions-smoke-mystery-tour-05-07-2016-48262
END:VEVENT

END:VCALENDAR
