BEGIN:VCALENDAR
VERSION:2.0
PRODID:-//ChamberMaster//Event Calendar 2.0//EN
METHOD:PUBLISH
X-PUBLISHED-TTL:P3D
REFRESH-INTERVAL:P3D
CALSCALE:GREGORIAN
BEGIN:VEVENT
DTSTART;VALUE=DATE:20140705
DTEND;VALUE=DATE:20140706
TRANSP:TRANSPARENT
X-MICROSOFT-CDO-ALLDAYEVENT:TRUE
SUMMARY:Nelson's ACE Hardware presents ACE's Star Spangled event!
DESCRIPTION:Come to ACE for their great Sale Event!
X-ALT-DESC;FMTTYPE=text/html:Come to ACE for their great Sale Event!<br />\n&nbsp\;
LOCATION:
UID:e.256.24880
SEQUENCE:3
DTSTAMP:20260424T091843Z
URL:https://members.visitblairsvillega.com/events/details/nelson-s-ace-hardware-presents-ace-s-star-spangled-event-07-05-2014-24880
END:VEVENT

END:VCALENDAR
