BEGIN:VCALENDAR
VERSION:2.0
PRODID:-//ChamberMaster//Event Calendar 2.0//EN
METHOD:PUBLISH
X-PUBLISHED-TTL:P3D
REFRESH-INTERVAL:P3D
CALSCALE:GREGORIAN
BEGIN:VEVENT
DTSTART;VALUE=DATE:20140707
DTEND;VALUE=DATE:20140708
TRANSP:TRANSPARENT
X-MICROSOFT-CDO-ALLDAYEVENT:TRUE
SUMMARY:Nelson's ACE Hardware presents ACE's Star Spangled event!
DESCRIPTION:Come to ACE for their great Sale Event!
X-ALT-DESC;FMTTYPE=text/html:Come to ACE for their great Sale Event!<br />\n&nbsp\;
LOCATION:
UID:e.256.24882
SEQUENCE:3
DTSTAMP:20260424T105030Z
URL:https://members.visitblairsvillega.com/events/details/nelson-s-ace-hardware-presents-ace-s-star-spangled-event-07-07-2014-24882
END:VEVENT

END:VCALENDAR
