BEGIN:VCALENDAR
VERSION:2.0
PRODID:-//ChamberMaster//Event Calendar 2.0//EN
METHOD:PUBLISH
X-PUBLISHED-TTL:P3D
REFRESH-INTERVAL:P3D
CALSCALE:GREGORIAN
BEGIN:VEVENT
DTSTART;VALUE=DATE:20141128
DTEND;VALUE=DATE:20141129
TRANSP:TRANSPARENT
X-MICROSOFT-CDO-ALLDAYEVENT:TRUE
SUMMARY:Nelson's ACE Hardware's After Thanksgiving Event
DESCRIPTION:Blow out prices are waiting at the Nelsons ACE Hardware's After Thanksgiving Event.  Check out our Facebook page for more information.
X-ALT-DESC;FMTTYPE=text/html:Blow out prices are waiting at the Nelsons ACE Hardware&#39\;s After Thanksgiving Event.&nbsp\; Check out our Facebook page for more information.
LOCATION:
UID:e.256.24877
SEQUENCE:3
DTSTAMP:20260424T045151Z
URL:https://members.visitblairsvillega.com/events/details/nelson-s-ace-hardware-s-after-thanksgiving-event-11-28-2014-24877
END:VEVENT

END:VCALENDAR
