BEGIN:VCALENDAR
VERSION:2.0
PRODID:-//ChamberMaster//Event Calendar 2.0//EN
METHOD:PUBLISH
X-PUBLISHED-TTL:P3D
REFRESH-INTERVAL:P3D
CALSCALE:GREGORIAN
BEGIN:VEVENT
DTSTART:20170821T160000Z
DTEND:20170821T200000Z
X-MICROSOFT-CDO-ALLDAYEVENT:FALSE
SUMMARY:New Life Family Church Solar Eclipse Gathering
DESCRIPTION:New Life Family Church Solar Eclipse Gathering\n\n12-4 p.m.\n\n\nAre you looking for a great place to view the Solar Eclipse?\n\nJoin us at New Life Family Church for a once-in-a-lifetime experience to watch the full eclipse of the sun at the construction site for our new building at:\n\n167 Westley Mountain Dr. in Blairsville. \n\nOur large concrete slab will provide an ideal place to view Shadow Bands or Shadow Snakes\, a unique phenomenon that sometimes occurs during total eclipses. We will have talking timer that will announce each solar event before it happens. So\, come watch Solar snakes\, the Diamond Ring and Bailey's Beads. \n\nIced\, bottled water and toilet facilities will be provided.\n\nThis is a great spot for family-friendly viewing of the eclipse!\n\n\n\nhttps://www.facebook.com/NewLifeBlairsville/\n\nhttp://www.newlifeblairsville.org
X-ALT-DESC;FMTTYPE=text/html:<p><span style="font-size:16px"><u><strong>New Life Family Church Solar Eclipse Gathering</strong></u></span><br />\n<span style="font-size:14px">12-4 p.m.</span></p>\n\n<div>\n<p><span style="font-size:14px">Are you looking for a great place to view the Solar Eclipse?</span></p>\n\n<p><span style="font-size:14px">Join us at New Life Family Church for a once-in-a-lifetime experience to watch the full eclipse of the sun at the construction site for our new building at:<br />\n167 Westley Mountain Dr. in Blairsville.&nbsp\;</span></p>\n\n<p><span style="font-size:14px">Our large concrete slab will provide an ideal place to view Shadow Bands or Shadow Snakes\, a unique phenomenon that sometimes occurs during total eclipses. We will have talking timer that will announce each solar event before it happens. So\, come watch Solar snakes\, the Diamond Ring and Bailey&#39\;s Beads.&nbsp\;</span></p>\n\n<p><span style="font-size:14px">Iced\, bottled water and toilet facilities will be provided.<br />\nThis is a great spot for family-friendly viewing of the eclipse!</span><br />\n<br />\nhttps://www.facebook.com/NewLifeBlairsville/<br />\nhttp://www.newlifeblairsville.org<br />\n&nbsp\;</p>\n</div>\n
LOCATION:167 Westley Mountain Drive\, Blairsville\, GA
UID:e.256.75649
SEQUENCE:3
DTSTAMP:20260419T210823Z
URL:https://members.visitblairsvillega.com/events/details/new-life-family-church-solar-eclipse-gathering-75649
END:VEVENT

END:VCALENDAR
