BEGIN:VCALENDAR
VERSION:2.0
PRODID:-//ChamberMaster//Event Calendar 2.0//EN
METHOD:PUBLISH
X-PUBLISHED-TTL:P3D
REFRESH-INTERVAL:P3D
CALSCALE:GREGORIAN
BEGIN:VEVENT
DTSTART:20151110T130000Z
DTEND:20151110T150000Z
X-MICROSOFT-CDO-ALLDAYEVENT:FALSE
SUMMARY:New Member Reception and Membership Orientation
DESCRIPTION:Blairsville - Union County Chamber of Commerce\n\nPresents\n\nNew Member Reception & Membership Orientation\n\n\n\nIt is our goal to maximize our members' success\, the community's competitiveness and the area's economic prosperity. \n\nCome out and find out how to get the most of your\n\nChamber membership.\n\n\n\nLIMITED SPACE AVAILABLE\n\nPlease register by 11/06/15\n\n\n\nBreakfast Sponsored by McDonald's of Blairsville
X-ALT-DESC;FMTTYPE=text/html:<div style="text-align: center\; color: gray\;"><span style="font-size: 12px\;"><span style="font-family: tahoma\;"><span style="color: rgb(0\, 0\, 0)\;"><em><span style="font-size: 14px\;">Blairsville - Union County Chamber of Commerce</span></em><br />\n<span style="font-size: 16px\;"><span style="font-size: 12px\;">Presents</span><br />\n<span style="font-size: 20px\;">New Member Reception &amp\; Membership Orientation</span></span></span><br />\n<br />\n<span style="color: rgb(0\, 0\, 0)\;"><span style="font-size: 14px\;">It is our goal to maximize our members&#39\; success\, the community&#39\;s competitiveness and the area&#39\;s economic prosperity.&nbsp\;<br />\nCome out and find out how to get the most of your<br />\nChamber membership.</span><br />\n<br />\n<span style="font-size: 16px\;">LIMITED SPACE AVAILABLE<br />\nPlease register by 11/06/15</span><br />\n<br />\n<span style="font-size: 18px\;">Breakfast Sponsored by&nbsp\;McDonald&#39\;s of Blairsville&nbsp\;</span></span></span></span></div>\n\n<div style="color: gray\;"><br />\n&nbsp\;</div>\n
LOCATION:Blairsville-Union County Community Center Ballroom - 2nd Floor
UID:e.256.37462
SEQUENCE:3
DTSTAMP:20260423T085513Z
URL:https://members.visitblairsvillega.com/events/details/new-member-reception-and-membership-orientation-11-10-2015-37462
END:VEVENT

END:VCALENDAR
