BEGIN:VCALENDAR
VERSION:2.0
PRODID:-//ChamberMaster//Event Calendar 2.0//EN
METHOD:PUBLISH
X-PUBLISHED-TTL:P3D
REFRESH-INTERVAL:P3D
CALSCALE:GREGORIAN
BEGIN:VEVENT
DTSTART:20141213T230000Z
DTEND:20141214T020000Z
X-MICROSOFT-CDO-ALLDAYEVENT:FALSE
SUMMARY:Newsong's Very Merry Christmas
DESCRIPTION:NewSong will be joined by GRAMMY nominee and Best New Artist Dove Award winner\, Jamie Grace. Adding to the lineup\, Sanctus Real\, will be joining the night of music. With their newly released album\, Run\, the GRAMMY nominated artist will add to the fun and exciting night. Josh Wilson will be opening the night of music and ministry.
X-ALT-DESC;FMTTYPE=text/html:NewSong will be joined by GRAMMY nominee and Best New Artist Dove Award winner\, Jamie Grace. Adding to the lineup\, Sanctus Real\, will be joining the night of music. With their newly released album\, Run\, the GRAMMY nominated artist will add to the fun and exciting night. Josh Wilson will be opening the night of music and ministry.
LOCATION:Smoky Mountain Center for the Performing Arts 1028 Georgia Road Franklin\, NC 28734
UID:e.256.27844
SEQUENCE:3
DTSTAMP:20260424T034159Z
URL:https://members.visitblairsvillega.com/events/details/newsong-s-very-merry-christmas-12-13-2014-27844
END:VEVENT

END:VCALENDAR
