BEGIN:VCALENDAR
VERSION:2.0
PRODID:-//ChamberMaster//Event Calendar 2.0//EN
METHOD:PUBLISH
X-PUBLISHED-TTL:P3D
REFRESH-INTERVAL:P3D
CALSCALE:GREGORIAN
BEGIN:VEVENT
DTSTART:20150429T150000Z
DTEND:20150429T160000Z
X-MICROSOFT-CDO-ALLDAYEVENT:FALSE
SUMMARY:NGTC Health Science Expansion Ribbon Cutting on the Blairsville Campus
DESCRIPTION:North Georgia Technical College invites you to the groundbreaking of the Health Science Expansion on the Blairsville Campus. Light refreshments will be served.\n\nRSVP by April 23rd.
X-ALT-DESC;FMTTYPE=text/html:North Georgia Technical College invites you to the groundbreaking of the Health Science Expansion on the Blairsville Campus. Light refreshments will be served.<br />\nRSVP by April 23rd.
LOCATION:North Georgia Technical College-Blairsville Campus 121 Meeks Avenue
UID:e.256.38146
SEQUENCE:3
DTSTAMP:20260423T201106Z
URL:https://members.visitblairsvillega.com/events/details/ngtc-health-science-expansion-ribbon-cutting-on-the-blairsville-campus-04-29-2015-38146
END:VEVENT

END:VCALENDAR
